BEGIN:VCALENDAR
VERSION:2.0
PRODID:-//Community Kids Child Care - ECPv6.15.20//NONSGML v1.0//EN
CALSCALE:GREGORIAN
METHOD:PUBLISH
X-ORIGINAL-URL:https://communitykidschildcare.com
X-WR-CALDESC:Events for Community Kids Child Care
REFRESH-INTERVAL;VALUE=DURATION:PT1H
X-Robots-Tag:noindex
X-PUBLISHED-TTL:PT1H
BEGIN:VTIMEZONE
TZID:America/Chicago
BEGIN:DAYLIGHT
TZOFFSETFROM:-0600
TZOFFSETTO:-0500
TZNAME:CDT
DTSTART:20200308T080000
END:DAYLIGHT
BEGIN:STANDARD
TZOFFSETFROM:-0500
TZOFFSETTO:-0600
TZNAME:CST
DTSTART:20201101T070000
END:STANDARD
BEGIN:DAYLIGHT
TZOFFSETFROM:-0600
TZOFFSETTO:-0500
TZNAME:CDT
DTSTART:20210314T080000
END:DAYLIGHT
BEGIN:STANDARD
TZOFFSETFROM:-0500
TZOFFSETTO:-0600
TZNAME:CST
DTSTART:20211107T070000
END:STANDARD
BEGIN:DAYLIGHT
TZOFFSETFROM:-0600
TZOFFSETTO:-0500
TZNAME:CDT
DTSTART:20220313T080000
END:DAYLIGHT
BEGIN:STANDARD
TZOFFSETFROM:-0500
TZOFFSETTO:-0600
TZNAME:CST
DTSTART:20221106T070000
END:STANDARD
BEGIN:DAYLIGHT
TZOFFSETFROM:-0600
TZOFFSETTO:-0500
TZNAME:CDT
DTSTART:20230312T080000
END:DAYLIGHT
BEGIN:STANDARD
TZOFFSETFROM:-0500
TZOFFSETTO:-0600
TZNAME:CST
DTSTART:20231105T070000
END:STANDARD
END:VTIMEZONE
BEGIN:VEVENT
DTSTART;VALUE=DATE:20211124
DTEND;VALUE=DATE:20211125
DTSTAMP:20260423T005754
CREATED:20210902T182552Z
LAST-MODIFIED:20210902T182552Z
UID:9734-1637712000-1637798399@communitykidschildcare.com
SUMMARY:Thanksgiving-Closed
DESCRIPTION:
URL:https://communitykidschildcare.com/event/thanksgiving-closed-2/
LOCATION:Community Kids Child Care\, 8909 Cochrans Crossing Dr\, The Woodlands\, TX\, 77381\, United States
ORGANIZER;CN="Gayla Greer":MAILTO:http://communitykidschildcare.com/contact/
END:VEVENT
BEGIN:VEVENT
DTSTART;VALUE=DATE:20211125
DTEND;VALUE=DATE:20211126
DTSTAMP:20260423T005754
CREATED:20210902T182720Z
LAST-MODIFIED:20210902T182720Z
UID:9736-1637798400-1637884799@communitykidschildcare.com
SUMMARY:Thanksgiving-Closed
DESCRIPTION:
URL:https://communitykidschildcare.com/event/thanksgiving-closed-3/
LOCATION:Community Kids Child Care\, 8909 Cochrans Crossing Dr\, The Woodlands\, TX\, 77381\, United States
ORGANIZER;CN="Gayla Greer":MAILTO:http://communitykidschildcare.com/contact/
END:VEVENT
BEGIN:VEVENT
DTSTART;VALUE=DATE:20211126
DTEND;VALUE=DATE:20211127
DTSTAMP:20260423T005754
CREATED:20210902T182907Z
LAST-MODIFIED:20210902T182907Z
UID:9740-1637884800-1637971199@communitykidschildcare.com
SUMMARY:Thanksgiving-Closed
DESCRIPTION:
URL:https://communitykidschildcare.com/event/thanksgiving-closed-5/
LOCATION:Community Kids Child Care\, 8909 Cochrans Crossing Dr\, The Woodlands\, TX\, 77381\, United States
ORGANIZER;CN="Gayla Greer":MAILTO:http://communitykidschildcare.com/contact/
END:VEVENT
BEGIN:VEVENT
DTSTART;VALUE=DATE:20211129
DTEND;VALUE=DATE:20211204
DTSTAMP:20260423T005754
CREATED:20210902T193313Z
LAST-MODIFIED:20210902T194007Z
UID:9769-1638144000-1638575999@communitykidschildcare.com
SUMMARY:Pajamas & The Star
DESCRIPTION:
URL:https://communitykidschildcare.com/event/pajamas-the-star/
LOCATION:Community Kids Child Care\, 8909 Cochrans Crossing Dr\, The Woodlands\, TX\, 77381\, United States
ORGANIZER;CN="Gayla Greer":MAILTO:http://communitykidschildcare.com/contact/
END:VEVENT
BEGIN:VEVENT
DTSTART;VALUE=DATE:20211206
DTEND;VALUE=DATE:20211211
DTSTAMP:20260423T005754
CREATED:20210902T194108Z
LAST-MODIFIED:20210902T194108Z
UID:9771-1638748800-1639180799@communitykidschildcare.com
SUMMARY:Christmas
DESCRIPTION:
URL:https://communitykidschildcare.com/event/christmas/
LOCATION:Community Kids Child Care\, 8909 Cochrans Crossing Dr\, The Woodlands\, TX\, 77381\, United States
ORGANIZER;CN="Gayla Greer":MAILTO:http://communitykidschildcare.com/contact/
END:VEVENT
BEGIN:VEVENT
DTSTART;VALUE=DATE:20211213
DTEND;VALUE=DATE:20211218
DTSTAMP:20260423T005754
CREATED:20210902T194151Z
LAST-MODIFIED:20210902T194151Z
UID:9773-1639353600-1639785599@communitykidschildcare.com
SUMMARY:Nativity
DESCRIPTION:
URL:https://communitykidschildcare.com/event/nativity/
LOCATION:Community Kids Child Care\, 8909 Cochrans Crossing Dr\, The Woodlands\, TX\, 77381\, United States
ORGANIZER;CN="Gayla Greer":MAILTO:http://communitykidschildcare.com/contact/
END:VEVENT
BEGIN:VEVENT
DTSTART;VALUE=DATE:20211220
DTEND;VALUE=DATE:20220105
DTSTAMP:20260423T005754
CREATED:20210902T194408Z
LAST-MODIFIED:20210902T194408Z
UID:9775-1639958400-1641340799@communitykidschildcare.com
SUMMARY:Christmas Break-Closed
DESCRIPTION:
URL:https://communitykidschildcare.com/event/christmas-break-closed/
LOCATION:Community Kids Child Care\, 8909 Cochrans Crossing Dr\, The Woodlands\, TX\, 77381\, United States
ORGANIZER;CN="Gayla Greer":MAILTO:http://communitykidschildcare.com/contact/
END:VEVENT
BEGIN:VEVENT
DTSTART;VALUE=DATE:20220810
DTEND;VALUE=DATE:20220811
DTSTAMP:20260423T005754
CREATED:20220811T175530Z
LAST-MODIFIED:20220811T175530Z
UID:12447-1660089600-1660175999@communitykidschildcare.com
SUMMARY:Back To School
DESCRIPTION:
URL:https://communitykidschildcare.com/event/back-to-school/
LOCATION:Community Kids Child Care\, 8909 Cochrans Crossing Dr\, The Woodlands\, TX\, 77381\, United States
END:VEVENT
BEGIN:VEVENT
DTSTART;TZID=America/Chicago:20220815T090000
DTEND;TZID=America/Chicago:20220819T140000
DTSTAMP:20260423T005754
CREATED:20220811T175710Z
LAST-MODIFIED:20220811T175710Z
UID:12449-1660554000-1660917600@communitykidschildcare.com
SUMMARY:I can make new friends
DESCRIPTION:
URL:https://communitykidschildcare.com/event/i-can-make-new-friends/
LOCATION:Community Kids Child Care\, 8909 Cochrans Crossing Dr\, The Woodlands\, TX\, 77381\, United States
END:VEVENT
BEGIN:VEVENT
DTSTART;TZID=America/Chicago:20220822T090000
DTEND;TZID=America/Chicago:20220826T140000
DTSTAMP:20260423T005754
CREATED:20220811T175847Z
LAST-MODIFIED:20220811T175847Z
UID:12451-1661158800-1661522400@communitykidschildcare.com
SUMMARY:Opposites
DESCRIPTION:
URL:https://communitykidschildcare.com/event/opposites/
LOCATION:Community Kids Child Care\, 8909 Cochrans Crossing Dr\, The Woodlands\, TX\, 77381\, United States
END:VEVENT
BEGIN:VEVENT
DTSTART;TZID=America/Chicago:20220829T090000
DTEND;TZID=America/Chicago:20220902T140000
DTSTAMP:20260423T005754
CREATED:20220811T175939Z
LAST-MODIFIED:20220811T175939Z
UID:12453-1661763600-1662127200@communitykidschildcare.com
SUMMARY:Healthy Foods
DESCRIPTION:
URL:https://communitykidschildcare.com/event/healthy-foods/
LOCATION:Community Kids Child Care\, 8909 Cochrans Crossing Dr\, The Woodlands\, TX\, 77381\, United States
END:VEVENT
BEGIN:VEVENT
DTSTART;VALUE=DATE:20220905
DTEND;VALUE=DATE:20220906
DTSTAMP:20260423T005754
CREATED:20220811T180052Z
LAST-MODIFIED:20220811T180052Z
UID:12455-1662336000-1662422399@communitykidschildcare.com
SUMMARY:Labor Day-Closed
DESCRIPTION:
URL:https://communitykidschildcare.com/event/labor-day-closed-2/
LOCATION:Community Kids Child Care\, 8909 Cochrans Crossing Dr\, The Woodlands\, TX\, 77381\, United States
END:VEVENT
BEGIN:VEVENT
DTSTART;TZID=America/Chicago:20220905T090000
DTEND;TZID=America/Chicago:20220909T140000
DTSTAMP:20260423T005754
CREATED:20220811T180303Z
LAST-MODIFIED:20220811T180303Z
UID:12457-1662368400-1662732000@communitykidschildcare.com
SUMMARY:My Body is Wonderfully Made
DESCRIPTION:
URL:https://communitykidschildcare.com/event/my-body-is-wonderfully-made-2/
LOCATION:Community Kids Child Care\, 8909 Cochrans Crossing Dr\, The Woodlands\, TX\, 77381\, United States
END:VEVENT
BEGIN:VEVENT
DTSTART;TZID=America/Chicago:20220912T090000
DTEND;TZID=America/Chicago:20220916T140000
DTSTAMP:20260423T005754
CREATED:20220811T182317Z
LAST-MODIFIED:20220811T182603Z
UID:12459-1662973200-1663336800@communitykidschildcare.com
SUMMARY:Sight\, Touch and Hearing
DESCRIPTION:
URL:https://communitykidschildcare.com/event/sighttouch-and-hearing/
LOCATION:Community Kids Child Care\, 8909 Cochrans Crossing Dr\, The Woodlands\, TX\, 77381\, United States
END:VEVENT
BEGIN:VEVENT
DTSTART;TZID=America/Chicago:20220919T090000
DTEND;TZID=America/Chicago:20220923T140000
DTSTAMP:20260423T005754
CREATED:20220811T182820Z
LAST-MODIFIED:20220811T182820Z
UID:12465-1663578000-1663941600@communitykidschildcare.com
SUMMARY:Smell and Taste
DESCRIPTION:
URL:https://communitykidschildcare.com/event/smell-and-taste/
LOCATION:Community Kids Child Care\, 8909 Cochrans Crossing Dr\, The Woodlands\, TX\, 77381\, United States
END:VEVENT
BEGIN:VEVENT
DTSTART;TZID=America/Chicago:20220926T090000
DTEND;TZID=America/Chicago:20220930T140000
DTSTAMP:20260423T005754
CREATED:20220811T182914Z
LAST-MODIFIED:20220811T182914Z
UID:12467-1664182800-1664546400@communitykidschildcare.com
SUMMARY:Healthy and Safety
DESCRIPTION:
URL:https://communitykidschildcare.com/event/healthy-and-safety/
LOCATION:Community Kids Child Care\, 8909 Cochrans Crossing Dr\, The Woodlands\, TX\, 77381\, United States
END:VEVENT
BEGIN:VEVENT
DTSTART;TZID=America/Chicago:20221003T090000
DTEND;TZID=America/Chicago:20221007T140000
DTSTAMP:20260423T005754
CREATED:20220811T183800Z
LAST-MODIFIED:20220811T183800Z
UID:12475-1664787600-1665151200@communitykidschildcare.com
SUMMARY:Fire Safety
DESCRIPTION:
URL:https://communitykidschildcare.com/event/fire-safety/
LOCATION:Community Kids Child Care\, 8909 Cochrans Crossing Dr\, The Woodlands\, TX\, 77381\, United States
END:VEVENT
BEGIN:VEVENT
DTSTART;VALUE=DATE:20221010
DTEND;VALUE=DATE:20221011
DTSTAMP:20260423T005754
CREATED:20220811T183043Z
LAST-MODIFIED:20220811T183106Z
UID:12469-1665360000-1665446399@communitykidschildcare.com
SUMMARY:Columbus Day-Closed
DESCRIPTION:
URL:https://communitykidschildcare.com/event/columbus-day-closed-3/
LOCATION:Community Kids Child Care\, 8909 Cochrans Crossing Dr\, The Woodlands\, TX\, 77381\, United States
END:VEVENT
BEGIN:VEVENT
DTSTART;TZID=America/Chicago:20221011T090000
DTEND;TZID=America/Chicago:20221014T140000
DTSTAMP:20260423T005754
CREATED:20220811T183922Z
LAST-MODIFIED:20220811T183922Z
UID:12477-1665478800-1665756000@communitykidschildcare.com
SUMMARY:Community Helpers
DESCRIPTION:
URL:https://communitykidschildcare.com/event/community-helpers/
LOCATION:Community Kids Child Care\, 8909 Cochrans Crossing Dr\, The Woodlands\, TX\, 77381\, United States
END:VEVENT
BEGIN:VEVENT
DTSTART;TZID=America/Chicago:20221017T090000
DTEND;TZID=America/Chicago:20221021T140000
DTSTAMP:20260423T005754
CREATED:20220811T184013Z
LAST-MODIFIED:20220811T184013Z
UID:12479-1665997200-1666360800@communitykidschildcare.com
SUMMARY:Woodland Animals
DESCRIPTION:
URL:https://communitykidschildcare.com/event/woodland-animals/
LOCATION:Community Kids Child Care\, 8909 Cochrans Crossing Dr\, The Woodlands\, TX\, 77381\, United States
END:VEVENT
BEGIN:VEVENT
DTSTART;TZID=America/Chicago:20221024T090000
DTEND;TZID=America/Chicago:20221028T140000
DTSTAMP:20260423T005754
CREATED:20220811T184128Z
LAST-MODIFIED:20220811T184128Z
UID:12481-1666602000-1666965600@communitykidschildcare.com
SUMMARY:Fall Leaves\, Pinecones and Acorns
DESCRIPTION:
URL:https://communitykidschildcare.com/event/fall-leaves-pinecones-and-acorns/
LOCATION:Community Kids Child Care\, 8909 Cochrans Crossing Dr\, The Woodlands\, TX\, 77381\, United States
END:VEVENT
BEGIN:VEVENT
DTSTART;VALUE=DATE:20221031
DTEND;VALUE=DATE:20221101
DTSTAMP:20260423T005754
CREATED:20220811T183441Z
LAST-MODIFIED:20220811T183441Z
UID:12471-1667174400-1667260799@communitykidschildcare.com
SUMMARY:Storybook Dress-Up Parade
DESCRIPTION:
URL:https://communitykidschildcare.com/event/storybook-dress-up-parade-2/
LOCATION:Community Kids Child Care\, 8909 Cochrans Crossing Dr\, The Woodlands\, TX\, 77381\, United States
END:VEVENT
BEGIN:VEVENT
DTSTART;TZID=America/Chicago:20221031T090000
DTEND;TZID=America/Chicago:20221104T140000
DTSTAMP:20260423T005754
CREATED:20220811T184300Z
LAST-MODIFIED:20220811T184300Z
UID:12483-1667206800-1667570400@communitykidschildcare.com
SUMMARY:Pumpkins and Scarecrows
DESCRIPTION:
URL:https://communitykidschildcare.com/event/pumpkins-and-scarecrows/
LOCATION:Community Kids Child Care\, 8909 Cochrans Crossing Dr\, The Woodlands\, TX\, 77381\, United States
END:VEVENT
BEGIN:VEVENT
DTSTART;VALUE=DATE:20221101
DTEND;VALUE=DATE:20221102
DTSTAMP:20260423T005754
CREATED:20220811T183528Z
LAST-MODIFIED:20220811T183528Z
UID:12473-1667260800-1667347199@communitykidschildcare.com
SUMMARY:Storybook Dress-up Parade
DESCRIPTION:
URL:https://communitykidschildcare.com/event/storybook-dress-up-parade-3/
LOCATION:Community Kids Child Care\, 8909 Cochrans Crossing Dr\, The Woodlands\, TX\, 77381\, United States
END:VEVENT
BEGIN:VEVENT
DTSTART;TZID=America/Chicago:20221107T090000
DTEND;TZID=America/Chicago:20221111T140000
DTSTAMP:20260423T005754
CREATED:20220811T191004Z
LAST-MODIFIED:20220811T191004Z
UID:12492-1667811600-1668175200@communitykidschildcare.com
SUMMARY:Indians and Pilgrims
DESCRIPTION:
URL:https://communitykidschildcare.com/event/indians-and-pilgrims/
LOCATION:Community Kids Child Care\, 8909 Cochrans Crossing Dr\, The Woodlands\, TX\, 77381\, United States
END:VEVENT
BEGIN:VEVENT
DTSTART;TZID=America/Chicago:20221114T090000
DTEND;TZID=America/Chicago:20221118T140000
DTSTAMP:20260423T005754
CREATED:20220811T191118Z
LAST-MODIFIED:20220811T191118Z
UID:12494-1668416400-1668780000@communitykidschildcare.com
SUMMARY:"I'm Thankful for.."
DESCRIPTION:
URL:https://communitykidschildcare.com/event/im-thankful-for/
LOCATION:Community Kids Child Care\, 8909 Cochrans Crossing Dr\, The Woodlands\, TX\, 77381\, United States
END:VEVENT
BEGIN:VEVENT
DTSTART;VALUE=DATE:20221117
DTEND;VALUE=DATE:20221118
DTSTAMP:20260423T005754
CREATED:20220811T184904Z
LAST-MODIFIED:20220811T184904Z
UID:12485-1668643200-1668729599@communitykidschildcare.com
SUMMARY:Thanksgiving Feast
DESCRIPTION:
URL:https://communitykidschildcare.com/event/thanksgiving-feast-3/
LOCATION:Community Kids Child Care\, 8909 Cochrans Crossing Dr\, The Woodlands\, TX\, 77381\, United States
END:VEVENT
BEGIN:VEVENT
DTSTART;VALUE=DATE:20221118
DTEND;VALUE=DATE:20221119
DTSTAMP:20260423T005754
CREATED:20220811T184946Z
LAST-MODIFIED:20220811T184946Z
UID:12488-1668729600-1668815999@communitykidschildcare.com
SUMMARY:Thanksgiving Feast
DESCRIPTION:
URL:https://communitykidschildcare.com/event/thanksgiving-feast-4/
LOCATION:Community Kids Child Care\, 8909 Cochrans Crossing Dr\, The Woodlands\, TX\, 77381\, United States
END:VEVENT
BEGIN:VEVENT
DTSTART;TZID=America/Chicago:20221121T090000
DTEND;TZID=America/Chicago:20221125T140000
DTSTAMP:20260423T005754
CREATED:20220811T190749Z
LAST-MODIFIED:20220811T191338Z
UID:12490-1669021200-1669384800@communitykidschildcare.com
SUMMARY:Thanksgiving Break-Closed
DESCRIPTION:
URL:https://communitykidschildcare.com/event/thanksgiving-closed-4/
LOCATION:Community Kids Child Care\, 8909 Cochrans Crossing Dr\, The Woodlands\, TX\, 77381\, United States
END:VEVENT
BEGIN:VEVENT
DTSTART;VALUE=DATE:20221124
DTEND;VALUE=DATE:20221125
DTSTAMP:20260423T005754
CREATED:20221111T190656Z
LAST-MODIFIED:20221111T190656Z
UID:13849-1669248000-1669334399@communitykidschildcare.com
SUMMARY:100th Day of School Celebration!
DESCRIPTION:
URL:https://communitykidschildcare.com/event/100th-day-of-school-celebration/
LOCATION:Community Kids Child Care\, 8909 Cochrans Crossing Dr\, The Woodlands\, TX\, 77381\, United States
END:VEVENT
END:VCALENDAR